BEGIN:VCALENDAR
VERSION:2.0
PRODID:-//Acadim - ECPv6.3.4//NONSGML v1.0//EN
CALSCALE:GREGORIAN
METHOD:PUBLISH
X-WR-CALNAME:Acadim
X-ORIGINAL-URL:https://acadim.de
X-WR-CALDESC:Veranstaltungen für Acadim
REFRESH-INTERVAL;VALUE=DURATION:PT1H
X-Robots-Tag:noindex
X-PUBLISHED-TTL:PT1H
BEGIN:VTIMEZONE
TZID:UTC
BEGIN:STANDARD
TZOFFSETFROM:+0000
TZOFFSETTO:+0000
TZNAME:UTC
DTSTART:20240101T000000
END:STANDARD
END:VTIMEZONE
BEGIN:VEVENT
DTSTART;TZID=UTC:20240313T133000
DTEND;TZID=UTC:20240313T141500
DTSTAMP:20260420T132144
CREATED:20240222T094710Z
LAST-MODIFIED:20240222T125138Z
UID:1245-1710336600-1710339300@acadim.de
SUMMARY:Diversität in der Hämatologie und Onkologie - Vortrag 2
DESCRIPTION:In einer Zeit\, in der die Medizin zunehmend personalisierter wird\, ist es von entscheidender Bedeutung\, die Vielfalt der Patienten in den Mittelpunkt unserer Forschung und Praxis zu stellen. Daher laden wir Sie herzlich ein\, an der Vortragsreihe des Arbeitskreises Diversitäts- und Individualmedizin\, unter der Schirmherrschaft der Deutschen Gesellschaft für Hämatologie und Onkologie (DGHO)\, teilzunehmen.\nDiese Vortragsreihe wird sich mit einigen der vielfältigen Dimensionen der Diversität auseinandersetzen – von biologischen Geschlechtsunterschieden über geografische Unterschiede bis hin zu sozioökonomischen Faktoren wie Armut – und deren Auswirkungen und Bedeutung für die Hämatologie und Onkologie. \nDie Vorträge finden online via Zoom statt\, jeweils von 13:30 bis 14:15 Uhr\, und bieten Ihnen die Flexibilität\, von überall aus teilzunehmen. Wir möchten Sie ermutigen\, sich dieser wichtigen Diskussion anzuschließen\, um nicht nur Ihr Fachwissen zu erweitern\, sondern auch um einen Beitrag zur Förderung einer inklusiveren und gerechteren medizinischen Landschaft zu leisten. \nMeeting-ID: 691 7769 4558\nPasswort:  726250 \nFolgende Termine finden statt: \n28.02.2024\nEinführung zur Diversitätsmedizin\nProf. Dr. Marie von Lilienfeld-Toal (Ruhr-Universität Bochum) \n13.03.2024\nBiologisches Geschlecht in der Hämatologie und Onkologie\nDr. med Kathrin Heinrich (LU München) \n10.04.2024\nMedizinische Normen & Genetik – geografische Unterschiede\nN.N. \n15.05.2024\nArmut und Krebs\nDr. sc. hum. Lina Jansen (Deutsches Krebsforschungszentrum) \nWir freuen uns darauf\, Sie bei unserer Vortragsreihe willkommen zu heißen und gemeinsam die Vielfalt in der Onkologie zu erkunden. \nIhr Team von acadim.
URL:https://acadim.de/event/diversitaet-in-der-haematologie-und-onkologie-copy/
LOCATION:Online via Zoom
ATTACH;FMTTYPE=image/png:https://acadim.de/wp-content/uploads/2024/02/Flyer_DGHO.png
END:VEVENT
END:VCALENDAR